BEGIN:VCALENDAR
VERSION:2.0
PRODID:-//Château de La Sarraz - ECPv6.15.20//NONSGML v1.0//EN
CALSCALE:GREGORIAN
METHOD:PUBLISH
X-ORIGINAL-URL:https://chateau-lasarraz.ch
X-WR-CALDESC:Évènements pour Château de La Sarraz
REFRESH-INTERVAL;VALUE=DURATION:PT1H
X-Robots-Tag:noindex
X-PUBLISHED-TTL:PT1H
BEGIN:VTIMEZONE
TZID:Europe/Zurich
BEGIN:DAYLIGHT
TZOFFSETFROM:+0100
TZOFFSETTO:+0200
TZNAME:CEST
DTSTART:20230326T010000
END:DAYLIGHT
BEGIN:STANDARD
TZOFFSETFROM:+0200
TZOFFSETTO:+0100
TZNAME:CET
DTSTART:20231029T010000
END:STANDARD
BEGIN:DAYLIGHT
TZOFFSETFROM:+0100
TZOFFSETTO:+0200
TZNAME:CEST
DTSTART:20240331T010000
END:DAYLIGHT
BEGIN:STANDARD
TZOFFSETFROM:+0200
TZOFFSETTO:+0100
TZNAME:CET
DTSTART:20241027T010000
END:STANDARD
BEGIN:DAYLIGHT
TZOFFSETFROM:+0100
TZOFFSETTO:+0200
TZNAME:CEST
DTSTART:20250330T010000
END:DAYLIGHT
BEGIN:STANDARD
TZOFFSETFROM:+0200
TZOFFSETTO:+0100
TZNAME:CET
DTSTART:20251026T010000
END:STANDARD
END:VTIMEZONE
BEGIN:VEVENT
DTSTART;VALUE=DATE:20240323
DTEND;VALUE=DATE:20241002
DTSTAMP:20260422T161724
CREATED:20240318T154343Z
LAST-MODIFIED:20240514T073527Z
UID:29257-1711159200-1727747999@chateau-lasarraz.ch
SUMMARY:Exposition « Transis »\, Michel Gillabert
DESCRIPTION:Transis – Michel Gillabert au Château de La Sarraz\n\nLes transis sont en art funéraire la représentation réaliste du défunt le plus souvent en état de putréfaction. Ces transis végétaux\, sculptés en détails\, figurent du bois en voie de décomposition\, laissant apparaitre à sa surface les formes d’une vie renouvelée. Comme en écho au transi du chevalier de la Sarraz dont il prolonge l’aura\, ces deux marbres\, dont le format rappel les pierres tombales\, ébauche une représentation de la mort comme paysage ou comme biotope. \nCes deux sculptures ont été réalisées initialement dans le cadre de l’exposition « Open End » en 2022-23 qui prenait place dans le cimetière des rois à Genève. Deux pierres tombales en marbre blanc\, s’inscrivant dans la logique de l’esthétique funéraire\, représentant des transis végétaux. \nSi le transi est historiquement une représentation du corps humains en putréfaction ici\, la sculpture prend de la distance sur son sujet et déplace le processus de décomposition de la chair vers le paysage naturel. La sculpture devient alors nécromasse\, territoire ambigu où la vie émerge des replis de la matière morte. Ce biotope en voie de renouvellement voudrait donner l’occasion de s’interroger sur les effets de flux et de reflux\, de marées du vivant. \nL’approche technique et esthétique de ce projet se dégage moins dans sa généralité que dans les détails. La taille de la pierre est perçue comme l’accumulation de petites fleurs\, d’animaux grouillant\, de lichen rampant ou de mousses essayant de donner à pressentir plutôt qu’à voir. Les cavités du bois en voie de décomposition semblent abriter des formes de vie microscopiques presque indiscernables. Cependant la vue générale respecte les codes traditionnels de l’art funéraire\, à la fois dans son format qui rappel la pierre tombale que dans son aspect de monument fleuri. \nIci le caractère sacralisant du marbre blanc a pour objet de rehausser une matière considérée comme basse voir repoussante a un statut plus noble. Utilisé traditionnellement pour célébrer l’Humain et ses institutions\, le marbre donne l’occasion par inversion des valeurs de questionner les hiérarchies présumées du monde naturel. La pierre\, qui en règle générale s’emploie à idéaliser la figure\, est utilisée dans cette sculpture de façon détournée pour mettre à jour son immanence. \nNous savons aujourd’hui qu’une biodiversité élevée ne peut être garantie que par la présence de zone en putréfactions tels que les tas de bois mort\, les marais ou même plus simplement les sols. Cette sculpture cherche à contempler la mort comme phénomène métabolique\, comme processus écologique tout en gardant à l’esprit que les corps humains participent de ce biotope. À l’instar du tombeau du chevalier de la Sarraz dont elle se fait l’écho végétal\, ces transis essaye de lever un bout du voile sur une dimension de nos existences qui semblent contenir tous nos tourments. \n\n\n  
URL:https://chateau-lasarraz.ch/event/exposition-transis-michel-gillabert/
LOCATION:Château de La Sarraz\, Le Château\, La Sarraz\, Vaud\, 1315\, Suisse
CATEGORIES:Château de La Sarraz
ATTACH;FMTTYPE=image/jpeg:https://chateau-lasarraz.ch/wp-content/uploads/2024/03/transis.jpg
ORGANIZER;CN="Ch%C3%A2teau de La Sarraz":MAILTO:info@chateau-lasarraz.ch
END:VEVENT
BEGIN:VEVENT
DTSTART;VALUE=DATE:20240323
DTEND;VALUE=DATE:20241028
DTSTAMP:20260422T161724
CREATED:20240404T080821Z
LAST-MODIFIED:20240514T072600Z
UID:29954-1711159200-1729994399@chateau-lasarraz.ch
SUMMARY:Exposition thématique : « Quel culot ces femmes de cheval ! »
DESCRIPTION:
URL:https://chateau-lasarraz.ch/event/exposition-thematique-quel-culot-ces-femmes-de-cheval/
LOCATION:Musée du Cheval\, Le Château 1\, La Sarraz\, Vaud\, 1315\, Suisse
ATTACH;FMTTYPE=image/png:https://chateau-lasarraz.ch/wp-content/uploads/2024/05/muche.png
ORGANIZER;CN="Mus%C3%A9e du Cheval":MAILTO:info@museeducheval.ch
END:VEVENT
BEGIN:VEVENT
DTSTART;TZID=Europe/Zurich:20240601T100000
DTEND;TZID=Europe/Zurich:20240601T170000
DTSTAMP:20260422T161724
CREATED:20240521T122542Z
LAST-MODIFIED:20240521T122542Z
UID:29996-1717236000-1717261200@chateau-lasarraz.ch
SUMMARY:Marché des artisans du goût du Pied du Jura
DESCRIPTION:C’est à La Sarraz que nous vous attendons pour notre deuxième Marché des artisants du goût du Pied du Jura. \nPour l’occasion\, Steve Bettschen\, Jack Capt\, Duttweiler Fromages\, Pascal Pichand et Les Frères Alcala seront réunis sous le même toit\, l’espace d’une journée\, pour partager avec vous leur passion du goût et le fruit de leur savoir-faire artisanal. \nVous pourrez ainsi venir faire votre marché de 10h00 à 17h00\, rencontrer les artisans et découvrir leurs produits. \nEn outre\, vous aurez la possibilité de vous restaurer avec des formules spéciales et différents accords entre vins\, fromages\, pains\, produits fumés et charcuteries. \nAfin de mieux prévoir cette journée\, nous vous invitons dans la mesure du possible à vous inscrire par mail (steve.bettschen@phusis.ch) avec votre heure d’arrivée approximative. \nAdresse : Salle de la Débridée\, Château de la Sarraz \nIdéal en transport publique : à 10 minutes à pied de la gare. \nNous nous réjouissons de vous accueillir à La Sarraz\, et vous adressons nos salutations les meilleures. \nLes Artisans \n 
URL:https://chateau-lasarraz.ch/event/marche-des-artisans-du-gout-du-pied-du-jura/
LOCATION:Château de La Sarraz | Salle de La Débridée\, Château 1\, La Sarraz\, Vaud\, 1315\, Suisse
ATTACH;FMTTYPE=image/png:https://chateau-lasarraz.ch/wp-content/uploads/2024/05/marce-beetschen.png
END:VEVENT
BEGIN:VEVENT
DTSTART;TZID=Europe/Zurich:20240605T140000
DTEND;TZID=Europe/Zurich:20240605T160000
DTSTAMP:20260422T161724
CREATED:20240522T094355Z
LAST-MODIFIED:20240522T095852Z
UID:30004-1717596000-1717603200@chateau-lasarraz.ch
SUMMARY:Atelier jeune public « Construis ton château médiéval »
DESCRIPTION:Plonge dans l’univers passionnant des bâtisseurs de châteaux! Construis ton château médiéval et découvre les métiers du bâti. \n\n\n\n\n\n\n\nVisite et atelier pour enfants autour des métiers du bâti.\n\nJournée d’immersion au sein du Château avec une visite des lieux insolites et une plongée dans l’univers des bâtisseurs de châteaux. Les enfants auront la possibilité de visiter le « Donjon » et de découvrir autour d’activités ludiques et pédagogiques l’histoire et les mystères qui se cachent derrière la construction d’un château médiéval. Une activité de modelage à l’argile sera proposée afin que les enfants puissent construire leur propre château. La journée se terminera autour d’un goûter qui comprend une part de gâteau et un verre de sirop\, de limonade ou de thé froid maison.\nLes parents peuvent naturellement participer à la visite au tarif usuel.\n\n\n\nUniquement sur réservation.
URL:https://chateau-lasarraz.ch/event/visite-atelier-construis-ton-chateau-medieval/
LOCATION:Château de La Sarraz\, Le Château\, La Sarraz\, Vaud\, 1315\, Suisse
CATEGORIES:Château de La Sarraz>Atelier enfant
ATTACH;FMTTYPE=image/jpeg:https://chateau-lasarraz.ch/wp-content/uploads/2024/05/thumbnail_IMG_7524.jpg
ORGANIZER;CN="Atelier Jeune Public du Ch%C3%A2teau de La Sarraz":MAILTO:mylene.steity@chateau-lasarraz.ch
END:VEVENT
BEGIN:VEVENT
DTSTART;TZID=Europe/Zurich:20240613T180000
DTEND;TZID=Europe/Zurich:20240613T233000
DTSTAMP:20260422T161724
CREATED:20240329T085027Z
LAST-MODIFIED:20240513T075233Z
UID:29939-1718301600-1718321400@chateau-lasarraz.ch
SUMMARY:Concert Pasta – Music’Encor’ – le 13 juin 2024
DESCRIPTION:Music’ Encor’ est un ensemble de cuivre d’une dizaine de musiciens\, fondé en 2021 et répétant  dans le cadre du magnifique château de La Sarraz. Ses musiciens sont pour la plupart issus d’un ensemble réputé bien connu\, la Riviera vaudoise. \nSon répertoire est essentiellement constitué de musique légère.\n\nDès 18.00 verre de bienvenue\nDès 19.00 repas en musique à La Débridée\n\nRéservations:\nContact : philipperodolphe.blanc@gmail.com\nTél : 079 449 55 16
URL:https://chateau-lasarraz.ch/event/concert-pasta-musicencor-le-13-juin-2024/
LOCATION:Château de La Sarraz | Salle de La Débridée\, Château 1\, La Sarraz\, Vaud\, 1315\, Suisse
ATTACH;FMTTYPE=image/png:https://chateau-lasarraz.ch/wp-content/uploads/2024/05/MUSIC-ENCORE.png
END:VEVENT
BEGIN:VEVENT
DTSTART;TZID=Europe/Zurich:20240616T103000
DTEND;TZID=Europe/Zurich:20240616T170000
DTSTAMP:20260422T161724
CREATED:20240523T100650Z
LAST-MODIFIED:20240523T102140Z
UID:30041-1718533800-1718557200@chateau-lasarraz.ch
SUMMARY:Fête du cheval 2024 avec Rebecca Fratellini
DESCRIPTION:Au sein du Musée du Cheval et domaine du Château de La Sarraz. \nSpectacles Equestres – Animations – Ateliers – Stands \n 
URL:https://chateau-lasarraz.ch/event/fete-du-cheval-2024-avec-rebecca-fratellini/
LOCATION:Vaud
ATTACH;FMTTYPE=image/png:https://chateau-lasarraz.ch/wp-content/uploads/2024/05/DOMAINE-ORIGINAL.png
ORGANIZER;CN="Mus%C3%A9e du Cheval":MAILTO:info@museeducheval.ch
END:VEVENT
BEGIN:VEVENT
DTSTART;TZID=Europe/Zurich:20240623T170000
DTEND;TZID=Europe/Zurich:20240623T200000
DTSTAMP:20260422T161724
CREATED:20240524T095034Z
LAST-MODIFIED:20240524T095034Z
UID:30049-1719162000-1719172800@chateau-lasarraz.ch
SUMMARY:Concerts Hummus and Wine dans les Jardins
DESCRIPTION:Humus Records et la Brasserie de Montbenon présentent \nMars Red Sky + Darius & les vins du Château d’Eclépens\nChâteau de la Sarraz\nDimanche 23 juin 2024 \nTickets et Infos\n 
URL:https://chateau-lasarraz.ch/event/concerts-hummus-and-wine-dans-les-jardins/
LOCATION:Château de La Sarraz\, Le Château\, La Sarraz\, Vaud\, 1315\, Suisse
ATTACH;FMTTYPE=image/png:https://chateau-lasarraz.ch/wp-content/uploads/2024/05/EXPLOITATION-ORIGINAL.png
END:VEVENT
BEGIN:VEVENT
DTSTART;TZID=Europe/Zurich:20240627T180000
DTEND;TZID=Europe/Zurich:20240905T182300
DTSTAMP:20260422T161724
CREATED:20240329T085240Z
LAST-MODIFIED:20240523T082534Z
UID:29943-1719511200-1725560580@chateau-lasarraz.ch
SUMMARY:Les Jeudis du Château - 5ème édition - Du 27 Juin au 05 Septembre 2024
DESCRIPTION:La 5e édition s’annonce haute en couleur en proposant à nouveau une programmation éclectique qui saura ravir les amoureux de musique. De la pop au rock en passant par le swing ou la chanson française\, vous retrouverez sur scène des artistes professionnels suisses et étrangers. \nDécouvrir les concerts 2024
URL:https://chateau-lasarraz.ch/event/les-jeudis-du-chateau-5eme-edition-du-27-juin-au-05-septembre-2024/
LOCATION:Vaud
ATTACH;FMTTYPE=image/png:https://chateau-lasarraz.ch/wp-content/uploads/2024/03/jeudis-2024.png
END:VEVENT
BEGIN:VEVENT
DTSTART;TZID=Europe/Zurich:20240630T170000
DTEND;TZID=Europe/Zurich:20240630T190000
DTSTAMP:20260422T161724
CREATED:20240521T131113Z
LAST-MODIFIED:20240528T082811Z
UID:29999-1719766800-1719774000@chateau-lasarraz.ch
SUMMARY:Récital "étoile montante" - 30 juin 2024 dès 17.00
DESCRIPTION:Ellie Bauwens\, 8ans \nLauréate du concours Suisse de musique pour la jeunesse et de 20 concours internationaux. \nBACH\, MOZART\, BAUWENS\, ETC. \nAccompagnée par : \n\nCAMERATA CROMATICA – Ensemble de cordes\n\nEntrée libre – Collecte à la sortie
URL:https://chateau-lasarraz.ch/event/recital-etoile-montante-30-juin-2024-des-17-00/
LOCATION:Château La Sarraz – Salle des Chevaliers\, Le Château\, La Sarraz\, Vaud\, 1315\, Suisse
ATTACH;FMTTYPE=image/png:https://chateau-lasarraz.ch/wp-content/uploads/2024/05/recital-30-juin.png
END:VEVENT
END:VCALENDAR