BEGIN:VCALENDAR
VERSION:2.0
PRODID:-//Château de La Sarraz - ECPv6.15.20//NONSGML v1.0//EN
CALSCALE:GREGORIAN
METHOD:PUBLISH
X-ORIGINAL-URL:https://chateau-lasarraz.ch
X-WR-CALDESC:Évènements pour Château de La Sarraz
REFRESH-INTERVAL;VALUE=DURATION:PT1H
X-Robots-Tag:noindex
X-PUBLISHED-TTL:PT1H
BEGIN:VTIMEZONE
TZID:Europe/Zurich
BEGIN:DAYLIGHT
TZOFFSETFROM:+0100
TZOFFSETTO:+0200
TZNAME:CEST
DTSTART:20230326T010000
END:DAYLIGHT
BEGIN:STANDARD
TZOFFSETFROM:+0200
TZOFFSETTO:+0100
TZNAME:CET
DTSTART:20231029T010000
END:STANDARD
BEGIN:DAYLIGHT
TZOFFSETFROM:+0100
TZOFFSETTO:+0200
TZNAME:CEST
DTSTART:20240331T010000
END:DAYLIGHT
BEGIN:STANDARD
TZOFFSETFROM:+0200
TZOFFSETTO:+0100
TZNAME:CET
DTSTART:20241027T010000
END:STANDARD
BEGIN:DAYLIGHT
TZOFFSETFROM:+0100
TZOFFSETTO:+0200
TZNAME:CEST
DTSTART:20250330T010000
END:DAYLIGHT
BEGIN:STANDARD
TZOFFSETFROM:+0200
TZOFFSETTO:+0100
TZNAME:CET
DTSTART:20251026T010000
END:STANDARD
END:VTIMEZONE
BEGIN:VEVENT
DTSTART;VALUE=DATE:20240323
DTEND;VALUE=DATE:20241002
DTSTAMP:20260422T211642
CREATED:20240318T154343Z
LAST-MODIFIED:20240514T073527Z
UID:29257-1711159200-1727747999@chateau-lasarraz.ch
SUMMARY:Exposition « Transis »\, Michel Gillabert
DESCRIPTION:Transis – Michel Gillabert au Château de La Sarraz\n\nLes transis sont en art funéraire la représentation réaliste du défunt le plus souvent en état de putréfaction. Ces transis végétaux\, sculptés en détails\, figurent du bois en voie de décomposition\, laissant apparaitre à sa surface les formes d’une vie renouvelée. Comme en écho au transi du chevalier de la Sarraz dont il prolonge l’aura\, ces deux marbres\, dont le format rappel les pierres tombales\, ébauche une représentation de la mort comme paysage ou comme biotope. \nCes deux sculptures ont été réalisées initialement dans le cadre de l’exposition « Open End » en 2022-23 qui prenait place dans le cimetière des rois à Genève. Deux pierres tombales en marbre blanc\, s’inscrivant dans la logique de l’esthétique funéraire\, représentant des transis végétaux. \nSi le transi est historiquement une représentation du corps humains en putréfaction ici\, la sculpture prend de la distance sur son sujet et déplace le processus de décomposition de la chair vers le paysage naturel. La sculpture devient alors nécromasse\, territoire ambigu où la vie émerge des replis de la matière morte. Ce biotope en voie de renouvellement voudrait donner l’occasion de s’interroger sur les effets de flux et de reflux\, de marées du vivant. \nL’approche technique et esthétique de ce projet se dégage moins dans sa généralité que dans les détails. La taille de la pierre est perçue comme l’accumulation de petites fleurs\, d’animaux grouillant\, de lichen rampant ou de mousses essayant de donner à pressentir plutôt qu’à voir. Les cavités du bois en voie de décomposition semblent abriter des formes de vie microscopiques presque indiscernables. Cependant la vue générale respecte les codes traditionnels de l’art funéraire\, à la fois dans son format qui rappel la pierre tombale que dans son aspect de monument fleuri. \nIci le caractère sacralisant du marbre blanc a pour objet de rehausser une matière considérée comme basse voir repoussante a un statut plus noble. Utilisé traditionnellement pour célébrer l’Humain et ses institutions\, le marbre donne l’occasion par inversion des valeurs de questionner les hiérarchies présumées du monde naturel. La pierre\, qui en règle générale s’emploie à idéaliser la figure\, est utilisée dans cette sculpture de façon détournée pour mettre à jour son immanence. \nNous savons aujourd’hui qu’une biodiversité élevée ne peut être garantie que par la présence de zone en putréfactions tels que les tas de bois mort\, les marais ou même plus simplement les sols. Cette sculpture cherche à contempler la mort comme phénomène métabolique\, comme processus écologique tout en gardant à l’esprit que les corps humains participent de ce biotope. À l’instar du tombeau du chevalier de la Sarraz dont elle se fait l’écho végétal\, ces transis essaye de lever un bout du voile sur une dimension de nos existences qui semblent contenir tous nos tourments. \n\n\n  
URL:https://chateau-lasarraz.ch/event/exposition-transis-michel-gillabert/
LOCATION:Château de La Sarraz\, Le Château\, La Sarraz\, Vaud\, 1315\, Suisse
CATEGORIES:Château de La Sarraz
ATTACH;FMTTYPE=image/jpeg:https://chateau-lasarraz.ch/wp-content/uploads/2024/03/transis.jpg
ORGANIZER;CN="Ch%C3%A2teau de La Sarraz":MAILTO:info@chateau-lasarraz.ch
END:VEVENT
BEGIN:VEVENT
DTSTART;VALUE=DATE:20240323
DTEND;VALUE=DATE:20241028
DTSTAMP:20260422T211642
CREATED:20240404T080821Z
LAST-MODIFIED:20240514T072600Z
UID:29954-1711159200-1729994399@chateau-lasarraz.ch
SUMMARY:Exposition thématique : « Quel culot ces femmes de cheval ! »
DESCRIPTION:
URL:https://chateau-lasarraz.ch/event/exposition-thematique-quel-culot-ces-femmes-de-cheval/
LOCATION:Musée du Cheval\, Le Château 1\, La Sarraz\, Vaud\, 1315\, Suisse
ATTACH;FMTTYPE=image/png:https://chateau-lasarraz.ch/wp-content/uploads/2024/05/muche.png
ORGANIZER;CN="Mus%C3%A9e du Cheval":MAILTO:info@museeducheval.ch
END:VEVENT
BEGIN:VEVENT
DTSTART;TZID=Europe/Zurich:20240403T140000
DTEND;TZID=Europe/Zurich:20240403T160000
DTSTAMP:20260422T211642
CREATED:20240318T154329Z
LAST-MODIFIED:20240320T083216Z
UID:29246-1712152800-1712160000@chateau-lasarraz.ch
SUMMARY:Atelier jeune public - Construis ton château médiéval
DESCRIPTION:Plonge dans l’univers passionnant des bâtisseurs de châteaux ! Construis ton château médiéval et découvre les métiers du bâti\nVisite et atelier pour enfants autour des métiers du bâti.\nJournée d’immersion au sein du Château avec une visite des lieux insolites et une plongée dans l’univers des bâtisseurs de châteaux. Les enfants auront la possibilité de visiter le « Donjon » et de découvrir autour d’activités ludiques et pédagogiques l’histoire et les mystères qui se cachent derrière la construction d’un château médiéval. Une activité de modelage à l’argile sera proposée afin que les enfants puissent construire leur propre château. La journée se terminera autour d’un goûter qui comprend une part de gâteau et un verre de sirop\, de limonade ou de thé froid maison. \nLes parents peuvent naturellement participer à la visite au tarif usuel. \nInformations pratiques : \n\nDates : 3 avril\, 17 avril\nHoraire : 14h00 à 16h00\nTarif : CHF 20.–\nÂge recommandé : 6 à 12 ans\n\n  \n			\n				Inscription
URL:https://chateau-lasarraz.ch/event/atelier-jeune-public-construis-ton-chateau-medieval-8/
LOCATION:Vaud
ATTACH;FMTTYPE=image/jpeg:https://chateau-lasarraz.ch/wp-content/uploads/2024/03/Jeune-public-construis.jpg
END:VEVENT
BEGIN:VEVENT
DTSTART;TZID=Europe/Zurich:20240410T140000
DTEND;TZID=Europe/Zurich:20240410T140000
DTSTAMP:20260422T211642
CREATED:20240318T154341Z
LAST-MODIFIED:20240325T073753Z
UID:29253-1712757600-1712757600@chateau-lasarraz.ch
SUMMARY:Atelier jeune public - Obsolètes ? quand les objets font l’histoire Exemplaire
DESCRIPTION:Mouchettes à chandelle\, fer à repasser à braises\, Daguerréotypes… Venez découvrir les secrets qui se cachent derrière les objets les plus insolites du Château et mettez-vous dans la peau d’un ou d’une historienne ! \nVisite et atelier pour enfants autour des objets et de l’histoire du Château.\nLe Château de La Sarraz a plus de 900 ans ! Quelles histoires mystérieuses se cachent derrière les objets du Château ? Cet atelier propose aux historiens et historiennes en herbe de retracer de manière ludique la riche histoire du Château au travers d’objets emblématiques et insolites qui ont marqué leur temps\, au fil des évolutions technologiques. \nLes parents peuvent naturellement participer à la visite au tarif usuel. \nInformations pratiques : \n\nDates : 10 avril\, 24 avril\nHoraire : 14h00 à 16h00\nTarif : CHF 20.–\nÂge recommandé : dès 10 ans\n\nInscription
URL:https://chateau-lasarraz.ch/event/atelier-jeune-public-obsoletes-quand-les-objets-font-lhistoire-exemplaire/
LOCATION:Vaud
ATTACH;FMTTYPE=image/jpeg:https://chateau-lasarraz.ch/wp-content/uploads/2024/03/photo_CLS_atelier_obsolete.jpg
END:VEVENT
BEGIN:VEVENT
DTSTART;TZID=Europe/Zurich:20240410T140000
DTEND;TZID=Europe/Zurich:20240410T140000
DTSTAMP:20260422T211642
CREATED:20240318T154342Z
LAST-MODIFIED:20240325T073621Z
UID:29255-1712757600-1712757600@chateau-lasarraz.ch
SUMMARY:Atelier jeune public - Obsolètes ? quand les objets font l’histoire
DESCRIPTION:Mouchettes à chandelle\, fer à repasser à braises\, Daguerréotypes… Venez découvrir les secrets qui se cachent derrière les objets les plus insolites du Château et mettez-vous dans la peau d’un ou d’une historienne ! \nVisite et atelier pour enfants autour des objets et de l’histoire du Château.\nLe Château de La Sarraz a plus de 900 ans ! Quelles histoires mystérieuses se cachent derrière les objets du Château ? Cet atelier propose aux historiens et historiennes en herbe de retracer de manière ludique la riche histoire du Château au travers d’objets emblématiques et insolites qui ont marqué leur temps\, au fil des évolutions technologiques. \nLes parents peuvent naturellement participer à la visite au tarif usuel \nInformations pratiques : \n\nDates : 10 avril\, 24 avril\nHoraire : 14h00 à 16h00\nTarif : CHF 20.–\nÂge recommandé : dès 10 ans\n\n			\n				Inscription
URL:https://chateau-lasarraz.ch/event/atelier-jeune-public-obsoletes-quand-les-objets-font-lhistoire-2/
LOCATION:Vaud
ATTACH;FMTTYPE=image/jpeg:https://chateau-lasarraz.ch/wp-content/uploads/2024/03/photo_CLS_atelier_obsolete.jpg
END:VEVENT
BEGIN:VEVENT
DTSTART;TZID=Europe/Zurich:20240417T140000
DTEND;TZID=Europe/Zurich:20240417T160000
DTSTAMP:20260422T211642
CREATED:20240318T154330Z
LAST-MODIFIED:20240319T081147Z
UID:29248-1713362400-1713369600@chateau-lasarraz.ch
SUMMARY:Atelier jeune public - Construis ton château médiéval
DESCRIPTION:Plonge dans l’univers passionnant des bâtisseurs de châteaux ! Construis ton château médiéval et découvre les métiers du bâti\nVisite et atelier pour enfants autour des métiers du bâti.\nJournée d’immersion au sein du Château avec une visite des lieux insolites et une plongée dans l’univers des bâtisseurs de châteaux. Les enfants auront la possibilité de visiter le « Donjon » et de découvrir autour d’activités ludiques et pédagogiques l’histoire et les mystères qui se cachent derrière la construction d’un château médiéval. Une activité de modelage à l’argile sera proposée afin que les enfants puissent construire leur propre château. La journée se terminera autour d’un goûter qui comprend une part de gâteau et un verre de sirop\, de limonade ou de thé froid maison. \nLes parents peuvent naturellement participer à la visite au tarif usuel \nInformations pratiques : \n\nDates : 3 avril\, 17 avril\nHoraire : 14h00 à 16h00\nTarif : CHF 20.–\nÂge recommandé : 6 à 12 ans\n\n			\n				Inscription
URL:https://chateau-lasarraz.ch/event/atelier-jeune-public-construis-ton-chateau-medieval-9/
LOCATION:Vaud
ATTACH;FMTTYPE=image/jpeg:https://chateau-lasarraz.ch/wp-content/uploads/2024/03/Jeune-public-construis.jpg
END:VEVENT
BEGIN:VEVENT
DTSTART;TZID=Europe/Zurich:20240424T140000
DTEND;TZID=Europe/Zurich:20240424T160000
DTSTAMP:20260422T211642
CREATED:20240318T154332Z
LAST-MODIFIED:20240325T073659Z
UID:29251-1713967200-1713974400@chateau-lasarraz.ch
SUMMARY:Atelier jeune public - Obsolètes ? quand les objets font l’histoire
DESCRIPTION:Mouchettes à chandelle\, fer à repasser à braises\, Daguerréotypes… Venez découvrir les secrets qui se cachent derrière les objets les plus insolites du Château et mettez-vous dans la peau d’un ou d’une historienne ! \nVisite et atelier pour enfants autour des objets et de l’histoire du Château.\nLe Château de La Sarraz a plus de 900 ans ! Quelles histoires mystérieuses se cachent derrière les objets du Château ? Cet atelier propose aux historiens et historiennes en herbe de retracer de manière ludique la riche histoire du Château au travers d’objets emblématiques et insolites qui ont marqué leur temps\, au fil des évolutions technologiques. \nLes parents peuvent naturellement participer à la visite au tarif usuel \nInformations pratiques : \n\nDates : 10 avril\, 24 avril\nHoraire : 14h00 à 16h00\nTarif : CHF 20.–\nÂge recommandé : dès 10 ans\n\n			\n				Inscription
URL:https://chateau-lasarraz.ch/event/atelier-jeune-public-obsoletes-quand-les-objets-font-lhistoire/
LOCATION:Vaud
ATTACH;FMTTYPE=image/jpeg:https://chateau-lasarraz.ch/wp-content/uploads/2024/03/photo_CLS_atelier_obsolete.jpg
END:VEVENT
BEGIN:VEVENT
DTSTART;TZID=Europe/Zurich:20240427T100000
DTEND;TZID=Europe/Zurich:20240428T170000
DTSTAMP:20260422T211642
CREATED:20240329T084144Z
LAST-MODIFIED:20240513T074526Z
UID:29929-1714212000-1714323600@chateau-lasarraz.ch
SUMMARY:VENOGE BIEN-ÊTRE du 27 au 28 avril 2024
DESCRIPTION:Reprenant le concept des « Journées Bien-Être près de chez vous » s’étant déroulées à Orny sous les ailes bienveillantes de Caroline Calzetta et Olivier Jaquinet. Un comité s’est créé et mobilisé afin de faire perdurer cette manifestation ayant connu un succès grandissant à chacune de ses 5 éditions. \nLe but de cet événement est de mettre en avant les thérapeutes énergétiques et artisans de Lumière de la région le temps d’un week-end\, en offrant un espace d’expositions\, d’ateliers et de partages.
URL:https://chateau-lasarraz.ch/event/venoge-bien-etre-du-27-au-28-avril-2024/
LOCATION:Château de La Sarraz\, Le Château\, La Sarraz\, Vaud\, 1315\, Suisse
ATTACH;FMTTYPE=image/png:https://chateau-lasarraz.ch/wp-content/uploads/2024/05/VENOGE-BIEN-ETRE.png
END:VEVENT
END:VCALENDAR