BEGIN:VCALENDAR
VERSION:2.0
PRODID:-//Château de La Sarraz - ECPv6.15.20//NONSGML v1.0//EN
CALSCALE:GREGORIAN
METHOD:PUBLISH
X-ORIGINAL-URL:https://chateau-lasarraz.ch
X-WR-CALDESC:Évènements pour Château de La Sarraz
REFRESH-INTERVAL;VALUE=DURATION:PT1H
X-Robots-Tag:noindex
X-PUBLISHED-TTL:PT1H
BEGIN:VTIMEZONE
TZID:Europe/Zurich
BEGIN:DAYLIGHT
TZOFFSETFROM:+0100
TZOFFSETTO:+0200
TZNAME:CEST
DTSTART:20220327T010000
END:DAYLIGHT
BEGIN:STANDARD
TZOFFSETFROM:+0200
TZOFFSETTO:+0100
TZNAME:CET
DTSTART:20221030T010000
END:STANDARD
BEGIN:DAYLIGHT
TZOFFSETFROM:+0100
TZOFFSETTO:+0200
TZNAME:CEST
DTSTART:20230326T010000
END:DAYLIGHT
BEGIN:STANDARD
TZOFFSETFROM:+0200
TZOFFSETTO:+0100
TZNAME:CET
DTSTART:20231029T010000
END:STANDARD
BEGIN:DAYLIGHT
TZOFFSETFROM:+0100
TZOFFSETTO:+0200
TZNAME:CEST
DTSTART:20240331T010000
END:DAYLIGHT
BEGIN:STANDARD
TZOFFSETFROM:+0200
TZOFFSETTO:+0100
TZNAME:CET
DTSTART:20241027T010000
END:STANDARD
END:VTIMEZONE
BEGIN:VEVENT
DTSTART;TZID=Europe/Zurich:20231129T140000
DTEND;TZID=Europe/Zurich:20231129T153000
DTSTAMP:20260423T091000
CREATED:20240318T154100Z
LAST-MODIFIED:20240318T154100Z
UID:29190-1701266400-1701271800@chateau-lasarraz.ch
SUMMARY:Atelier Créatif avec Carmel Créations pour les enfants
DESCRIPTION:Ateliers Créatifs au Château de La Sarraz\nLes ateliers créatifs.. pourquoi ne pas penser a se relaxer et apprendre.. en passant un agréable moment.\nNos ateliers sont animés par notre candy design Tania qui vous guidera de manière ludique et tout en douceur à la décoration de biscuits et de bonbons! \nLieu: Château de La Sarraz\nAge: de 5 à 12 ans. Nombre d’enfants: min 8 max 24 Durée: de 14 à 15h30\nTarif: 38.- (goûter et boisson inclus) Les enfants repartiront avec leur œuvre d’art! \nRésérvation
URL:https://chateau-lasarraz.ch/event/atelier-creatif-avec-carmel-creations-pour-les-enfants-4/
LOCATION:Vaud
CATEGORIES:Château de La Sarraz>Atelier enfant
ATTACH;FMTTYPE=image/png:https://chateau-lasarraz.ch/wp-content/uploads/2024/03/29-novembre-X2qYMk.tmp_.png
END:VEVENT
END:VCALENDAR