BEGIN:VCALENDAR
VERSION:2.0
PRODID:-//Château de La Sarraz - ECPv6.15.20//NONSGML v1.0//EN
CALSCALE:GREGORIAN
METHOD:PUBLISH
X-ORIGINAL-URL:https://chateau-lasarraz.ch
X-WR-CALDESC:Évènements pour Château de La Sarraz
REFRESH-INTERVAL;VALUE=DURATION:PT1H
X-Robots-Tag:noindex
X-PUBLISHED-TTL:PT1H
BEGIN:VTIMEZONE
TZID:Europe/Zurich
BEGIN:DAYLIGHT
TZOFFSETFROM:+0100
TZOFFSETTO:+0200
TZNAME:CEST
DTSTART:20220327T010000
END:DAYLIGHT
BEGIN:STANDARD
TZOFFSETFROM:+0200
TZOFFSETTO:+0100
TZNAME:CET
DTSTART:20221030T010000
END:STANDARD
BEGIN:DAYLIGHT
TZOFFSETFROM:+0100
TZOFFSETTO:+0200
TZNAME:CEST
DTSTART:20230326T010000
END:DAYLIGHT
BEGIN:STANDARD
TZOFFSETFROM:+0200
TZOFFSETTO:+0100
TZNAME:CET
DTSTART:20231029T010000
END:STANDARD
BEGIN:DAYLIGHT
TZOFFSETFROM:+0100
TZOFFSETTO:+0200
TZNAME:CEST
DTSTART:20240331T010000
END:DAYLIGHT
BEGIN:STANDARD
TZOFFSETFROM:+0200
TZOFFSETTO:+0100
TZNAME:CET
DTSTART:20241027T010000
END:STANDARD
END:VTIMEZONE
BEGIN:VEVENT
DTSTART;TZID=Europe/Zurich:20230622T020000
DTEND;TZID=Europe/Zurich:20230901T015900
DTSTAMP:20260423T192108
CREATED:20240318T153950Z
LAST-MODIFIED:20240318T153950Z
UID:29180-1687399200-1693533540@chateau-lasarraz.ch
SUMMARY:Les Jeudis du Château - Concerts gratuits - saison 2023
DESCRIPTION:Le programme de cette année est arrivé !\nDes informations supplémentaires sont à découvrir en cliquant le bouton : \nLes-jeudis.ch\n 
URL:https://chateau-lasarraz.ch/event/les-jeudis-du-chateau-concerts-gratuits-saison-2023/
LOCATION:Vaud
CATEGORIES:Association des amis du château de La Sarraz
ATTACH;FMTTYPE=image/png:https://chateau-lasarraz.ch/wp-content/uploads/2024/03/lancement-QssJiX.tmp_.png
END:VEVENT
BEGIN:VEVENT
DTSTART;TZID=Europe/Zurich:20230809T140000
DTEND;TZID=Europe/Zurich:20230809T160000
DTSTAMP:20260423T192108
CREATED:20240318T154104Z
LAST-MODIFIED:20240318T154104Z
UID:29195-1691589600-1691596800@chateau-lasarraz.ch
SUMMARY:Atelier jeune public « Construis ton château médiéval »
DESCRIPTION:Plonge dans l’univers passionnant des bâtisseurs de châteaux ! Construis ton château médiéval et découvre les métiers du bâtiVisite et atelier pour enfants autour des métiers du bâti. \nPlus de détails
URL:https://chateau-lasarraz.ch/event/atelier-jeune-public-construis-ton-chateau-medieval-3/
LOCATION:Vaud
ATTACH;FMTTYPE=image/png:https://chateau-lasarraz.ch/wp-content/uploads/2024/03/atelier-enfant-ApsaHO.tmp_.png
END:VEVENT
BEGIN:VEVENT
DTSTART;TZID=Europe/Zurich:20230820T120000
DTEND;TZID=Europe/Zurich:20230820T180000
DTSTAMP:20260423T192108
CREATED:20240318T154219Z
LAST-MODIFIED:20240318T154219Z
UID:29224-1692532800-1692554400@chateau-lasarraz.ch
SUMMARY:Rookie Rock Festival 2023
DESCRIPTION:Un festival de jeunes artistes incontournable ! \n\nArtistes de 15 à 20 ans !\nDimanche 20 Août 2023\nJardin du Château de La Sarraz\nPetite restauration dès 12h00\nConcerts 13h00 à 18h00\n\n13h – Big Garden\n14h – Archilo\n15h – Blackwood\n16h – Pink.E\n17h – Team MPF\n\n\n\nPrix Libre ! 🙂
URL:https://chateau-lasarraz.ch/event/rookie-rock-festival-2023/
LOCATION:Vaud
ATTACH;FMTTYPE=image/png:https://chateau-lasarraz.ch/wp-content/uploads/2024/03/Rookie-DYkmeR.tmp_.png
END:VEVENT
BEGIN:VEVENT
DTSTART;TZID=Europe/Zurich:20230825T150000
DTEND;TZID=Europe/Zurich:20230825T180000
DTSTAMP:20260423T192108
CREATED:20240318T154207Z
LAST-MODIFIED:20240318T154207Z
UID:29220-1692975600-1692986400@chateau-lasarraz.ch
SUMMARY:Arc en Scène
DESCRIPTION:Arc-en-Scène 2023\nEn tournée dans les villages de la région Venoge \nUn petit bus coloré\, des parasols et des coussins\, des jeux et des livres à votre disposition\, une conteuse pour rêver et un goûter à partager ! \nVenez en famille nous rejoindre dans les jardins du Château le vendredi 25 août ou le mercredi 20 septembre de 15h à 18h\, par beau temps uniquement. Une initiative des paroisses réformées de la région au service des familles. \nContact: Catherine Novet\, diacre Enfance & Familles 078/ 764 73 21 catherine.novet@eerv.ch
URL:https://chateau-lasarraz.ch/event/arc-en-scene/
LOCATION:Vaud
ATTACH;FMTTYPE=image/png:https://chateau-lasarraz.ch/wp-content/uploads/2024/03/swiss-location-award-vtBj5C.tmp_.png
END:VEVENT
END:VCALENDAR