BEGIN:VCALENDAR
VERSION:2.0
PRODID:-//Château de La Sarraz - ECPv6.15.20//NONSGML v1.0//EN
CALSCALE:GREGORIAN
METHOD:PUBLISH
X-WR-CALNAME:Château de La Sarraz
X-ORIGINAL-URL:https://chateau-lasarraz.ch
X-WR-CALDESC:Évènements pour Château de La Sarraz
REFRESH-INTERVAL;VALUE=DURATION:PT1H
X-Robots-Tag:noindex
X-PUBLISHED-TTL:PT1H
BEGIN:VTIMEZONE
TZID:Europe/Zurich
BEGIN:DAYLIGHT
TZOFFSETFROM:+0100
TZOFFSETTO:+0200
TZNAME:CEST
DTSTART:20240331T010000
END:DAYLIGHT
BEGIN:STANDARD
TZOFFSETFROM:+0200
TZOFFSETTO:+0100
TZNAME:CET
DTSTART:20241027T010000
END:STANDARD
BEGIN:DAYLIGHT
TZOFFSETFROM:+0100
TZOFFSETTO:+0200
TZNAME:CEST
DTSTART:20250330T010000
END:DAYLIGHT
BEGIN:STANDARD
TZOFFSETFROM:+0200
TZOFFSETTO:+0100
TZNAME:CET
DTSTART:20251026T010000
END:STANDARD
BEGIN:DAYLIGHT
TZOFFSETFROM:+0100
TZOFFSETTO:+0200
TZNAME:CEST
DTSTART:20260329T010000
END:DAYLIGHT
BEGIN:STANDARD
TZOFFSETFROM:+0200
TZOFFSETTO:+0100
TZNAME:CET
DTSTART:20261025T010000
END:STANDARD
END:VTIMEZONE
BEGIN:VEVENT
DTSTART;TZID=Europe/Zurich:20250928T110000
DTEND;TZID=Europe/Zurich:20250928T150000
DTSTAMP:20260422T001959
CREATED:20250830T110038Z
LAST-MODIFIED:20250830T110038Z
UID:30841-1759057200-1759071600@chateau-lasarraz.ch
SUMMARY:Journée Malakoffs - 28 Septembre 2025
DESCRIPTION:Journée Malakoffs au Château de La Sarraz\nAu vu du succès remporté lors des précédentes éditions\, l’Association des Amis du Château de La Sarraz a le plaisir de vous convier à sa troisième journée Malakoffs au Château de La Sarraz\, le 28 septembre 2025 de 11h00 à 15h00\, sans réservation. Cette manifestation est organisée en vue de la réfection des vitraux de la salle des Chevaliers du Château.\nCélébrons l’arrivée de l’automne avec les alléchants malakoffs confectionnés par Jacques Tinguely de Vufflens-le-Château au son de  Music’Encor\, l’ensemble de cuivres partenaire du Château de La Sarraz. L’occasion de passer un moment chaleureux\, dans la bonne humeur et en bonne compagnie. \nC’est à nouveau sous forme de forfait que nous vous proposons cette réconfortante spécialité vaudoise\, qu’est le malakoff (beignet de fromage). \nForfait: 2 pièces\, salade et dessert: CHF 20.-\nMalakoff supplémentaire: CHF 6.- \nPaiement: TWINT et cash \nLa manifestation aura lieu par tous les temps\, dans la salle de La Débridée au Château de La Sarraz. \nLe Château de La Sarraz est facilement accessible par transports publics. La gare se situe à 5 minutes à pied.\nPour les personnes se déplaçant en voiture\, plusieurs parkings se trouvent à La Sarraz\, notamment près de la gare. \nNous avons hâte de passer ce moment en votre compagnie!
URL:https://chateau-lasarraz.ch/event/journee-malakoffs-28-septembre-2025/
CATEGORIES:Association des amis du château de La Sarraz|Château de La Sarraz
ATTACH;FMTTYPE=image/png:https://chateau-lasarraz.ch/wp-content/uploads/2025/08/original-1.png
ORGANIZER;CN="Association des Amis du Ch%C3%A2teau de La Sarraz":MAILTO:amis@chateau-lasarraz.ch
END:VEVENT
END:VCALENDAR