BEGIN:VCALENDAR
VERSION:2.0
PRODID:-//Château de La Sarraz - ECPv6.15.20//NONSGML v1.0//EN
CALSCALE:GREGORIAN
METHOD:PUBLISH
X-ORIGINAL-URL:https://chateau-lasarraz.ch
X-WR-CALDESC:Évènements pour Château de La Sarraz
REFRESH-INTERVAL;VALUE=DURATION:PT1H
X-Robots-Tag:noindex
X-PUBLISHED-TTL:PT1H
BEGIN:VTIMEZONE
TZID:Europe/Zurich
BEGIN:DAYLIGHT
TZOFFSETFROM:+0100
TZOFFSETTO:+0200
TZNAME:CEST
DTSTART:20220327T010000
END:DAYLIGHT
BEGIN:STANDARD
TZOFFSETFROM:+0200
TZOFFSETTO:+0100
TZNAME:CET
DTSTART:20221030T010000
END:STANDARD
BEGIN:DAYLIGHT
TZOFFSETFROM:+0100
TZOFFSETTO:+0200
TZNAME:CEST
DTSTART:20230326T010000
END:DAYLIGHT
BEGIN:STANDARD
TZOFFSETFROM:+0200
TZOFFSETTO:+0100
TZNAME:CET
DTSTART:20231029T010000
END:STANDARD
BEGIN:DAYLIGHT
TZOFFSETFROM:+0100
TZOFFSETTO:+0200
TZNAME:CEST
DTSTART:20240331T010000
END:DAYLIGHT
BEGIN:STANDARD
TZOFFSETFROM:+0200
TZOFFSETTO:+0100
TZNAME:CET
DTSTART:20241027T010000
END:STANDARD
END:VTIMEZONE
BEGIN:VEVENT
DTSTART;TZID=Europe/Zurich:20231025T130000
DTEND;TZID=Europe/Zurich:20231025T150000
DTSTAMP:20260423T105704
CREATED:20240318T154105Z
LAST-MODIFIED:20240318T154105Z
UID:29196-1698238800-1698246000@chateau-lasarraz.ch
SUMMARY:Atelier jeune public « Construis ton château médiéval »
DESCRIPTION:Plonge dans l’univers passionnant des bâtisseurs de châteaux ! Construis ton château médiéval et découvre les métiers du bâti\nVisite et atelier pour enfants autour des métiers du bâti. \nPlus de détails \nPOSSIBILITÉ DE COMBINER L’OFFRE AVEC L’ATELIER « CARMEL CREATION » A UN PRIX AVANTAGEUX
URL:https://chateau-lasarraz.ch/event/atelier-jeune-public-construis-ton-chateau-medieval-4/
LOCATION:Vaud
ATTACH;FMTTYPE=image/png:https://chateau-lasarraz.ch/wp-content/uploads/2024/03/atelier-enfant-ApsaHO.tmp_.png
END:VEVENT
END:VCALENDAR