BEGIN:VCALENDAR
VERSION:2.0
PRODID:-//Château de La Sarraz - ECPv6.15.20//NONSGML v1.0//EN
CALSCALE:GREGORIAN
METHOD:PUBLISH
X-WR-CALNAME:Château de La Sarraz
X-ORIGINAL-URL:https://chateau-lasarraz.ch
X-WR-CALDESC:Évènements pour Château de La Sarraz
REFRESH-INTERVAL;VALUE=DURATION:PT1H
X-Robots-Tag:noindex
X-PUBLISHED-TTL:PT1H
BEGIN:VTIMEZONE
TZID:Europe/Zurich
BEGIN:DAYLIGHT
TZOFFSETFROM:+0100
TZOFFSETTO:+0200
TZNAME:CEST
DTSTART:20220327T010000
END:DAYLIGHT
BEGIN:STANDARD
TZOFFSETFROM:+0200
TZOFFSETTO:+0100
TZNAME:CET
DTSTART:20221030T010000
END:STANDARD
BEGIN:DAYLIGHT
TZOFFSETFROM:+0100
TZOFFSETTO:+0200
TZNAME:CEST
DTSTART:20230326T010000
END:DAYLIGHT
BEGIN:STANDARD
TZOFFSETFROM:+0200
TZOFFSETTO:+0100
TZNAME:CET
DTSTART:20231029T010000
END:STANDARD
BEGIN:DAYLIGHT
TZOFFSETFROM:+0100
TZOFFSETTO:+0200
TZNAME:CEST
DTSTART:20240331T010000
END:DAYLIGHT
BEGIN:STANDARD
TZOFFSETFROM:+0200
TZOFFSETTO:+0100
TZNAME:CET
DTSTART:20241027T010000
END:STANDARD
END:VTIMEZONE
BEGIN:VEVENT
DTSTART;TZID=Europe/Zurich:20231015T170000
DTEND;TZID=Europe/Zurich:20231015T190000
DTSTAMP:20260423T090846
CREATED:20240318T154220Z
LAST-MODIFIED:20240318T154220Z
UID:29226-1697389200-1697396400@chateau-lasarraz.ch
SUMMARY:MUSIQUE ET POÉSIE MÉCANIQUE AU CHÂTEAU DE LA SARRAZ
DESCRIPTION:Les concerts d’Artémont vous proposent un magnifique moment musical et visuel donné par la pianiste Sylviane Deferne et l’inventeur Roland Sauter le dimanche 15 octobre 2023 à 17h\, dans la Salle des Chevaliers et sous les voûtes ancestrales du Grand Cellier du Château.\nLe récital de piano sera voué au couple Robert et Clara Schumann. Clara était une pianiste prodige et célèbre\, compositrice à ses heures et ardente défenseuse des œuvres de son mari. Robert\, compositeur emblématique du romantisme allemand\, s’inspire des écrivains de l’époque\, comme Jean-Paul ou E.T.A Hoffmann\, et de son amour pour Clara. Le programme choisi par la pianiste Sylviane Deferne met à l’honneur des bijoux musicaux composés par ce couple légendaire\, avec l’objectif affirmé d’être accessible aux auditeurs de notre temps. \nEn lever de rideau\, vous aurez l’occasion de découvrir un.e très jeune lauréat.e du prestigieux Concours de piano Lavaux Classic. \nA l’issue de cette soirée festive\, l’inventeur et photographe Roland Sauter nous présentera dans la salle du Grand Cellier ses « poèmes mécaniques »\, objets à l’esthétique épurée dont les mouvements lents et imprévisibles dégagent une calme douceur\, une poésie invitant à la méditation. Une verrée sera offerte à cette occasion pour prolonger ce moment de partage exceptionnel ouvert à tous. \n\n\n\nAssociation Artémont\nSylviane Deferne
URL:https://chateau-lasarraz.ch/event/musique-et-poesie-mecanique-au-chateau-de-la-sarraz/
LOCATION:Vaud
CATEGORIES:Concert
ATTACH;FMTTYPE=image/jpeg:https://chateau-lasarraz.ch/wp-content/uploads/2024/03/Sylviane-89wLCz.tmp_.jpg
END:VEVENT
END:VCALENDAR