BEGIN:VCALENDAR
VERSION:2.0
PRODID:-//Château de La Sarraz - ECPv6.15.20//NONSGML v1.0//EN
CALSCALE:GREGORIAN
METHOD:PUBLISH
X-ORIGINAL-URL:https://chateau-lasarraz.ch
X-WR-CALDESC:Évènements pour Château de La Sarraz
REFRESH-INTERVAL;VALUE=DURATION:PT1H
X-Robots-Tag:noindex
X-PUBLISHED-TTL:PT1H
BEGIN:VTIMEZONE
TZID:Europe/Zurich
BEGIN:DAYLIGHT
TZOFFSETFROM:+0100
TZOFFSETTO:+0200
TZNAME:CEST
DTSTART:20220327T010000
END:DAYLIGHT
BEGIN:STANDARD
TZOFFSETFROM:+0200
TZOFFSETTO:+0100
TZNAME:CET
DTSTART:20221030T010000
END:STANDARD
BEGIN:DAYLIGHT
TZOFFSETFROM:+0100
TZOFFSETTO:+0200
TZNAME:CEST
DTSTART:20230326T010000
END:DAYLIGHT
BEGIN:STANDARD
TZOFFSETFROM:+0200
TZOFFSETTO:+0100
TZNAME:CET
DTSTART:20231029T010000
END:STANDARD
BEGIN:DAYLIGHT
TZOFFSETFROM:+0100
TZOFFSETTO:+0200
TZNAME:CEST
DTSTART:20240331T010000
END:DAYLIGHT
BEGIN:STANDARD
TZOFFSETFROM:+0200
TZOFFSETTO:+0100
TZNAME:CET
DTSTART:20241027T010000
END:STANDARD
END:VTIMEZONE
BEGIN:VEVENT
DTSTART;TZID=Europe/Zurich:20231008T170000
DTEND;TZID=Europe/Zurich:20231008T190000
DTSTAMP:20260423T090751
CREATED:20240318T154223Z
LAST-MODIFIED:20240318T154223Z
UID:29230-1696784400-1696791600@chateau-lasarraz.ch
SUMMARY:Madrigal au Château
DESCRIPTION:Dialogue entre chœur et luth\nMusique profane de la Renaissance européenne\nChères amies et chers amis de la musique et d’Amaryllis\, \nOyez\, oyez! Parée de ses plus beaux atours\, Amaryllis vous invite à partager sa vie de château. Dans des cadres inhabituels\, et accompagné de Dana Howe au luth\, Amaryllis vous fera voyager dans l’Europe de la Renaissance. \nCes concerts exploreront toutes les facettes de la musique profane de la Renaissance\, des madrigaux anglais aux villancicos ibériques\, en passant par le madrigal italien\, les lieder allemands et polonais et la chanson française. La variété et l’expressivité de cette période musicale ravira même les plus exigeants. \nŒuvres de musiciens célèbres comme Thomas Morley\, Josquin Desprez\, Roland de Lassus ou un peu oubliés comme Mateo Flecha El Viejo et Mikołaj z Krakowaw. \nAlors\, remontez votre montre de cinq siècles et vérifiez votre passeport\, puis réservez votre place sur notre site ou en scannant le QR-code ci-après. Et surtout\, suivez notre guide\, le luthiste Dana Howe\, qui vous offrira plusieurs pièces instrumentales de divers pays. \nMadrigal au Château\nDialogue entre chœur et luth\nMusique profane de la Renaissance européenne \n\nle dimanche 8 octobre 2023 à 17h au château de la Sarraz.\n\nEntrée libre\, collecte\, mais réservation fortement conseillée en raison de la taille des salles. Pour réserver une place\, allez sur notre site www.choeuramaryllis.org
URL:https://chateau-lasarraz.ch/event/madrigal-au-chateau/
LOCATION:Vaud
ATTACH;FMTTYPE=image/png:https://chateau-lasarraz.ch/wp-content/uploads/2024/03/madigal-8UPPbJ.tmp_.png
END:VEVENT
END:VCALENDAR