BEGIN:VCALENDAR
VERSION:2.0
PRODID:-//Château de La Sarraz - ECPv6.15.20//NONSGML v1.0//EN
CALSCALE:GREGORIAN
METHOD:PUBLISH
X-WR-CALNAME:Château de La Sarraz
X-ORIGINAL-URL:https://chateau-lasarraz.ch
X-WR-CALDESC:Évènements pour Château de La Sarraz
REFRESH-INTERVAL;VALUE=DURATION:PT1H
X-Robots-Tag:noindex
X-PUBLISHED-TTL:PT1H
BEGIN:VTIMEZONE
TZID:Europe/Zurich
BEGIN:DAYLIGHT
TZOFFSETFROM:+0100
TZOFFSETTO:+0200
TZNAME:CEST
DTSTART:20220327T010000
END:DAYLIGHT
BEGIN:STANDARD
TZOFFSETFROM:+0200
TZOFFSETTO:+0100
TZNAME:CET
DTSTART:20221030T010000
END:STANDARD
BEGIN:DAYLIGHT
TZOFFSETFROM:+0100
TZOFFSETTO:+0200
TZNAME:CEST
DTSTART:20230326T010000
END:DAYLIGHT
BEGIN:STANDARD
TZOFFSETFROM:+0200
TZOFFSETTO:+0100
TZNAME:CET
DTSTART:20231029T010000
END:STANDARD
BEGIN:DAYLIGHT
TZOFFSETFROM:+0100
TZOFFSETTO:+0200
TZNAME:CEST
DTSTART:20240331T010000
END:DAYLIGHT
BEGIN:STANDARD
TZOFFSETFROM:+0200
TZOFFSETTO:+0100
TZNAME:CET
DTSTART:20241027T010000
END:STANDARD
END:VTIMEZONE
BEGIN:VEVENT
DTSTART;TZID=Europe/Zurich:20231001T110000
DTEND;TZID=Europe/Zurich:20231001T170000
DTSTAMP:20260423T090558
CREATED:20240318T154222Z
LAST-MODIFIED:20240318T154222Z
UID:29228-1696158000-1696179600@chateau-lasarraz.ch
SUMMARY:Déjeuner Malakoffs à volonté
DESCRIPTION:Envie d’un bon repas reconfortant dans une ambiance festive et musicale?\nL’Associaion des Amis du Château organise un repas « Malakoffs à volonté » au profit de la salle de Mandrot. \nAu son de l’équipe de cuivres « Music’Encor’ « \, dégustez cette spécialité vaudoise\, préparée avec le fromage de Jacques Tinguely de Vufflens-le-Château\, de 11h00 à 17h00. 35.-/personne et 15.-/enfant (jusqu’à 12 ans). Sans réservation.
URL:https://chateau-lasarraz.ch/event/dejeuner-malakoffs-a-volonte/
LOCATION:Vaud
ATTACH;FMTTYPE=image/png:https://chateau-lasarraz.ch/wp-content/uploads/2024/03/Malakoffs-tYhTKH.tmp_.png
END:VEVENT
END:VCALENDAR