BEGIN:VCALENDAR
VERSION:2.0
PRODID:-//Château de La Sarraz - ECPv6.15.20//NONSGML v1.0//EN
CALSCALE:GREGORIAN
METHOD:PUBLISH
X-ORIGINAL-URL:https://chateau-lasarraz.ch
X-WR-CALDESC:Évènements pour Château de La Sarraz
REFRESH-INTERVAL;VALUE=DURATION:PT1H
X-Robots-Tag:noindex
X-PUBLISHED-TTL:PT1H
BEGIN:VTIMEZONE
TZID:Europe/Zurich
BEGIN:DAYLIGHT
TZOFFSETFROM:+0100
TZOFFSETTO:+0200
TZNAME:CEST
DTSTART:20220327T010000
END:DAYLIGHT
BEGIN:STANDARD
TZOFFSETFROM:+0200
TZOFFSETTO:+0100
TZNAME:CET
DTSTART:20221030T010000
END:STANDARD
BEGIN:DAYLIGHT
TZOFFSETFROM:+0100
TZOFFSETTO:+0200
TZNAME:CEST
DTSTART:20230326T010000
END:DAYLIGHT
BEGIN:STANDARD
TZOFFSETFROM:+0200
TZOFFSETTO:+0100
TZNAME:CET
DTSTART:20231029T010000
END:STANDARD
BEGIN:DAYLIGHT
TZOFFSETFROM:+0100
TZOFFSETTO:+0200
TZNAME:CEST
DTSTART:20240331T010000
END:DAYLIGHT
BEGIN:STANDARD
TZOFFSETFROM:+0200
TZOFFSETTO:+0100
TZNAME:CET
DTSTART:20241027T010000
END:STANDARD
END:VTIMEZONE
BEGIN:VEVENT
DTSTART;TZID=Europe/Zurich:20230910T160000
DTEND;TZID=Europe/Zurich:20230910T200000
DTSTAMP:20260423T124732
CREATED:20240318T154116Z
LAST-MODIFIED:20240318T154116Z
UID:29199-1694361600-1694376000@chateau-lasarraz.ch
SUMMARY:The Revox + Reverend Beat-Man & les vins du Château d’Eclépens
DESCRIPTION:THE REVOXFétichistes des années soixante\, The Revox vouent un culte dévot à la fuzz\, aux Sonics et au MC5. La bottine est alerte\, la rouflaquette charnue\, l’ourlet bien repassé\, et le groove redoutable : leur garage-punk crusty et endiablé file aussi droit que l’autoroute Lausanne-Martigny\, lieu de leurs premiers vrombissements alpins. Vos oreilles et vos hanches ne sauront pas y résister. \nREVEREND BEAT-MAN\nTôlier du truculent label Voodoo Rhythm\, pape européen du rock-blues-trash depuis une bonne trente-cinquaine d’années\, « one-man band » qui n’a de catholique que le nom\, son éminence le Reverend Beat-Man n’est plus qu’à présenter qu’aux sourds et aux grenouilles de bénitier. Entre deux tournées décapantes avec les Monsters\, il chausse sa guitare et dégaine sa grosse caisse en même temps\, et ses shows en solo sont tellement super qu’on dirait qu’il est plusieurs. \nLE CHÂTEAU D’ECLÉPENS\nLes vignes du Château d’Eclépens\, il paraît que le fiston de Charlemagne en parlait déjà en 814\, entre deux embrochages de païens. Depuis le XIX\, c’est la famille De Coulon qui bichonne la vigne alentours\, avec la septième génération représentée par François depuis le début de ce siècle. Gamay\, Pinot\, Cabernet\, Chasselas\, Doral et quelques autres sont vinifiés au Château\, en bio; la vigneronne Caroline Jouniaux vous en présentera les meilleures topettes. \nInfos pratiques\nConcert au Château de la Sarraz (dans le joli jardin ou dans le Grand Cellier selon la pluviométrie).\nAccès gratuit au Château des 14h. Portes 16h; dégustation (billets « dégust' ») de 16h à 17h. Concert vers 18h\, fin à 20h. Bar à vin et planchettes pour le goûter !\nGare de la Sarraz à 5 min à pied.
URL:https://chateau-lasarraz.ch/event/the-revox-reverend-beat-man-les-vins-du-chateau-declepens/
LOCATION:Vaud
ATTACH;FMTTYPE=image/png:https://chateau-lasarraz.ch/wp-content/uploads/2024/03/concerthummus-2HXziF.tmp_.png
END:VEVENT
END:VCALENDAR