BEGIN:VCALENDAR
VERSION:2.0
PRODID:-//Château de La Sarraz - ECPv6.15.20//NONSGML v1.0//EN
CALSCALE:GREGORIAN
METHOD:PUBLISH
X-ORIGINAL-URL:https://chateau-lasarraz.ch
X-WR-CALDESC:Évènements pour Château de La Sarraz
REFRESH-INTERVAL;VALUE=DURATION:PT1H
X-Robots-Tag:noindex
X-PUBLISHED-TTL:PT1H
BEGIN:VTIMEZONE
TZID:Europe/Zurich
BEGIN:DAYLIGHT
TZOFFSETFROM:+0100
TZOFFSETTO:+0200
TZNAME:CEST
DTSTART:20220327T010000
END:DAYLIGHT
BEGIN:STANDARD
TZOFFSETFROM:+0200
TZOFFSETTO:+0100
TZNAME:CET
DTSTART:20221030T010000
END:STANDARD
BEGIN:DAYLIGHT
TZOFFSETFROM:+0100
TZOFFSETTO:+0200
TZNAME:CEST
DTSTART:20230326T010000
END:DAYLIGHT
BEGIN:STANDARD
TZOFFSETFROM:+0200
TZOFFSETTO:+0100
TZNAME:CET
DTSTART:20231029T010000
END:STANDARD
BEGIN:DAYLIGHT
TZOFFSETFROM:+0100
TZOFFSETTO:+0200
TZNAME:CEST
DTSTART:20240331T010000
END:DAYLIGHT
BEGIN:STANDARD
TZOFFSETFROM:+0200
TZOFFSETTO:+0100
TZNAME:CET
DTSTART:20241027T010000
END:STANDARD
END:VTIMEZONE
BEGIN:VEVENT
DTSTART;TZID=Europe/Zurich:20230906T140000
DTEND;TZID=Europe/Zurich:20230906T160000
DTSTAMP:20260423T105832
CREATED:20240318T154206Z
LAST-MODIFIED:20240318T154206Z
UID:29218-1694008800-1694016000@chateau-lasarraz.ch
SUMMARY:Atelier jeune public « Construis ton château médiéval »
DESCRIPTION:Plonge dans l’univers passionnant des bâtisseurs de châteaux ! Construis ton château médiéval et découvre les métiers du bâtiVisite et atelier pour enfants autour des métiers du bâti. \nPlus de détails
URL:https://chateau-lasarraz.ch/event/atelier-jeune-public-construis-ton-chateau-medieval-6/
LOCATION:Vaud
ATTACH;FMTTYPE=image/png:https://chateau-lasarraz.ch/wp-content/uploads/2024/03/atelier-enfant-ApsaHO.tmp_.png
END:VEVENT
END:VCALENDAR