BEGIN:VCALENDAR
VERSION:2.0
PRODID:-//Château de La Sarraz - ECPv6.15.20//NONSGML v1.0//EN
CALSCALE:GREGORIAN
METHOD:PUBLISH
X-ORIGINAL-URL:https://chateau-lasarraz.ch
X-WR-CALDESC:Évènements pour Château de La Sarraz
REFRESH-INTERVAL;VALUE=DURATION:PT1H
X-Robots-Tag:noindex
X-PUBLISHED-TTL:PT1H
BEGIN:VTIMEZONE
TZID:Europe/Zurich
BEGIN:DAYLIGHT
TZOFFSETFROM:+0100
TZOFFSETTO:+0200
TZNAME:CEST
DTSTART:20220327T010000
END:DAYLIGHT
BEGIN:STANDARD
TZOFFSETFROM:+0200
TZOFFSETTO:+0100
TZNAME:CET
DTSTART:20221030T010000
END:STANDARD
BEGIN:DAYLIGHT
TZOFFSETFROM:+0100
TZOFFSETTO:+0200
TZNAME:CEST
DTSTART:20230326T010000
END:DAYLIGHT
BEGIN:STANDARD
TZOFFSETFROM:+0200
TZOFFSETTO:+0100
TZNAME:CET
DTSTART:20231029T010000
END:STANDARD
BEGIN:DAYLIGHT
TZOFFSETFROM:+0100
TZOFFSETTO:+0200
TZNAME:CEST
DTSTART:20240331T010000
END:DAYLIGHT
BEGIN:STANDARD
TZOFFSETFROM:+0200
TZOFFSETTO:+0100
TZNAME:CET
DTSTART:20241027T010000
END:STANDARD
END:VTIMEZONE
BEGIN:VEVENT
DTSTART;TZID=Europe/Zurich:20230620T183000
DTEND;TZID=Europe/Zurich:20230620T200000
DTSTAMP:20260424T012725
CREATED:20240318T154131Z
LAST-MODIFIED:20240318T154131Z
UID:29208-1687285800-1687291200@chateau-lasarraz.ch
SUMMARY:Conférence - Sacré Mormont ! un projet au long cours
DESCRIPTION:À 18h30 entre le 20 juin et le 09 septembre\, le Château de La Sarraz et le Musée du Cheval vous accueillent pour un cycle de conférences sur le Mormont dans le cadre de l’ouverture de l’exposition « Sacré Mormont ! Enquête chez les Celtes » au Musée cantonal d’archéologie et d’histoire (11.05.23-18.02.24). \n20.06 à 18h30 : « Sacré Mormont ! un projet au long cours »\, par Julia Genechesi\, conservatrice au Musée cantonal d’archéologie et d’histoire (Château de La Sarraz) \nInscriptions souhaitées à adresser aux conservatrices : \nmylene.steity@chateau-lasarraz.ch ou info@museeducheval.ch
URL:https://chateau-lasarraz.ch/event/conference-sacre-mormont-un-projet-au-long-cours/
LOCATION:Vaud
ATTACH;FMTTYPE=image/png:https://chateau-lasarraz.ch/wp-content/uploads/2024/03/mormont-FAJ3ua.tmp_.png
END:VEVENT
END:VCALENDAR